BEGIN:VCALENDAR
VERSION:2.0
PRODID:-//CADA ATLETISMO - ECPv6.9.0//NONSGML v1.0//EN
CALSCALE:GREGORIAN
METHOD:PUBLISH
X-WR-CALNAME:CADA ATLETISMO
X-ORIGINAL-URL:https://cada-atletismo.com
X-WR-CALDESC:Eventos para CADA ATLETISMO
REFRESH-INTERVAL;VALUE=DURATION:PT1H
X-Robots-Tag:noindex
X-PUBLISHED-TTL:PT1H
BEGIN:VTIMEZONE
TZID:America/Argentina/Buenos_Aires
BEGIN:STANDARD
TZOFFSETFROM:-0300
TZOFFSETTO:-0300
TZNAME:-03
DTSTART:20260101T000000
END:STANDARD
END:VTIMEZONE
BEGIN:VEVENT
DTSTART;VALUE=DATE:20260418
DTEND;VALUE=DATE:20260420
DTSTAMP:20260420T013025
CREATED:20260105T140051Z
LAST-MODIFIED:20260420T012650Z
UID:5921-1776470400-1776643199@cada-atletismo.com
SUMMARY:COPA NACIONAL DE CLUBES MAYORES - FAM
DESCRIPTION:Resultados CopNacClubesMAYFAM26 \nBase SC CopNacClubesMAYFAM26
URL:https://cada-atletismo.com/event/copa-mayores-y-challenger-2-caba/
LOCATION:CENARD\, Ciudad Autónoma de Buenos Aires\, Buenos Aires\, Argentina
END:VEVENT
BEGIN:VEVENT
DTSTART;VALUE=DATE:20260419
DTEND;VALUE=DATE:20260420
DTSTAMP:20260420T013025
CREATED:20260105T140126Z
LAST-MODIFIED:20260105T140126Z
UID:5923-1776556800-1776643199@cada-atletismo.com
SUMMARY:33° CAMPEONATO NACIONAL MEDIA MARATON - LPA
DESCRIPTION:
URL:https://cada-atletismo.com/event/33-campeonato-nacional-media-maraton-lpa/
LOCATION:Santa Rosa\, Santa Rosa\, La Pampa\, Argentina
END:VEVENT
BEGIN:VEVENT
DTSTART;VALUE=DATE:20260419
DTEND;VALUE=DATE:20260420
DTSTAMP:20260420T013025
CREATED:20260409T170927Z
LAST-MODIFIED:20260409T170927Z
UID:6629-1776556800-1776643199@cada-atletismo.com
SUMMARY:Continental CHALLENGER “Hugo M. La Nasa” - FAM
DESCRIPTION:
URL:https://cada-atletismo.com/event/continental-challenger-hugo-m-la-nasa-fam/
LOCATION:CENARD\, Ciudad Autónoma de Buenos Aires\, Buenos Aires\, Argentina
END:VEVENT
END:VCALENDAR